BEGIN:VCALENDAR
VERSION:2.0
PRODID:-//Ministry of Nirvana - ECPv6.10.1.1//NONSGML v1.0//EN
CALSCALE:GREGORIAN
METHOD:PUBLISH
X-WR-CALNAME:Ministry of Nirvana
X-ORIGINAL-URL:https://ministryofnirvana.org.au
X-WR-CALDESC:Events for Ministry of Nirvana
REFRESH-INTERVAL;VALUE=DURATION:PT1H
X-Robots-Tag:noindex
X-PUBLISHED-TTL:PT1H
BEGIN:VTIMEZONE
TZID:UTC
BEGIN:STANDARD
TZOFFSETFROM:+0000
TZOFFSETTO:+0000
TZNAME:UTC
DTSTART:20260101T000000
END:STANDARD
END:VTIMEZONE
BEGIN:VEVENT
DTSTART;TZID=UTC:20260424T170000
DTEND;TZID=UTC:20260426T170000
DTSTAMP:20260424T042323
CREATED:20260402T111346Z
LAST-MODIFIED:20260402T112104Z
UID:6989-1777050000-1777222800@ministryofnirvana.org.au
SUMMARY:The Buddhist Detox Retreat Auckland - Apr 2026
DESCRIPTION:Social Media Overload – Hamilton New Zealand   								\n				\n					\n		\n					\n		\n				\n						\n					\n			\n						\n				\n									Date and TimeTuesday\, 21 April 2026\, 6:00 PM – 8:00 PM Location5 Glen Lynne Avenue About this eventFeeling overwhelmed by social media? Constant notifications\, comparison\, and digital noise can quietly drain our peace—especially for young minds.Join us for a meaningful session on “Social Media Overload” and learn how to reset\, refocus\, and reconnect with a calmer\, clearer mind.This special session is designed to gently explore:• How social media affects the mind and emotions• The hidden stress behind scrolling\, likes\, and online validation• Why it’s easy to feel distracted\, restless\, or low after long screen time• Practical ways to regain balance and clarity in daily lifeWith the compassionate guidance of Ven. Rathmalane Bakkula Thero\, participants will be introduced to simple yet powerful techniques rooted in Dhamma to calm the mind\, improve awareness\, and develop a healthier relationship with technology.This is not about rejecting social media—but learning to use it wisely\, without losing inner peace.  Especially for children aged 13 to 18 yearsParents are warmly encouraged to support their children in attending this valuable session. CostThis is a FREE event SpeakersThe retreat will be fully guided by Ven Bhakkula Thero from Jethavanarama monastery. The venerables have been conducting many teaching activities such as residential and day retreats\, seminars\, workshops etc across Australia and around the world (New Zealand\, Singapore\, UK\, Italy\, South Korea\, Dubai\, Israel). Ven. Bakkula Thero: Ven. Bakkula Thero was a former computer engineer and a semi-professional cricketer in the UK\, now a monk\, focusing on finding serenity and inner peace and helping others. ContactKingsley – 02102 828 280Achini – 02238 642 141 Organised byMinistry of Nirvana New Zealand
URL:https://ministryofnirvana.org.au/event/the-buddhist-detox-retreat-auckland-apr-2026/
LOCATION:Heaven’s Rest B&B\, 80 Mill Road\, Bombay\, Auckland\, 2675\, New Zealand
ATTACH;FMTTYPE=image/png:https://ministryofnirvana.org.au/wp-content/uploads/2026/04/auckland-2026-retreat.png
END:VEVENT
END:VCALENDAR