BEGIN:VCALENDAR
VERSION:2.0
PRODID:-//Ministry of Nirvana - ECPv6.10.1.1//NONSGML v1.0//EN
CALSCALE:GREGORIAN
METHOD:PUBLISH
X-ORIGINAL-URL:https://ministryofnirvana.org.au
X-WR-CALDESC:Events for Ministry of Nirvana
REFRESH-INTERVAL;VALUE=DURATION:PT1H
X-Robots-Tag:noindex
X-PUBLISHED-TTL:PT1H
BEGIN:VTIMEZONE
TZID:UTC
BEGIN:STANDARD
TZOFFSETFROM:+0000
TZOFFSETTO:+0000
TZNAME:UTC
DTSTART:20260101T000000
END:STANDARD
TZID:Pacific/Auckland
BEGIN:STANDARD
TZOFFSETFROM:+1300
TZOFFSETTO:+1200
TZNAME:NZST
DTSTART:20260404T140000
END:STANDARD
BEGIN:DAYLIGHT
TZOFFSETFROM:+1200
TZOFFSETTO:+1300
TZNAME:NZDT
DTSTART:20260926T140000
END:DAYLIGHT
END:VTIMEZONE
BEGIN:VEVENT
DTSTART;TZID=UTC:20260418T093000
DTEND;TZID=UTC:20260418T153000
DTSTAMP:20260424T175136
CREATED:20260403T100918Z
LAST-MODIFIED:20260403T101247Z
UID:6997-1776504600-1776526200@ministryofnirvana.org.au
SUMMARY:Detox Your Mind Wellington Retreat - 18 April 2026 FREE Event
DESCRIPTION:Inner Peace – Unfolding the science of happiness – Tasmania 								\n				\n					\n		\n					\n		\n				\n						\n					\n			\n						\n				\n									Date and time09 December 2025 1:00 PM LocationSouth Arm Community Centre About the session True peace doesn’t come from changing the world — it blossoms when the mind sees clearly\, free from illusion and restlessness. Join Ven. Handapangoda Nivathapa Thero\, the revered Guru Thero of Jethavanarama Monastery in Sri Lanka\, for an illuminating Dhamma talk that explores the inner mechanics of happiness and the art of freeing the mind from unnecessary suffering.  In this session\, you will discover:How the mind creates conflict and illusion through perceptionThe science behind lasting happiness and calmWays to dissolve the inner noise that clouds true contentmentThe timeless wisdom of the Buddha — as a practical guide to peaceThis is not just a talk\, but a journey inward — an exploration of the nature of the mind and the peace that already lies within you. Organized byMinistry of Nirvana- Australia ContactDinusha – 0406 295 715
URL:https://ministryofnirvana.org.au/event/detox-your-mind-wellington-retreat-18-april-2026-free-event/
LOCATION:Tawa College\, 38A Duncan Street\, Wellington\, Wellington Region\, 5028\, New Zealand
ATTACH;FMTTYPE=image/png:https://ministryofnirvana.org.au/wp-content/uploads/2026/04/detox-ur-mind.png
END:VEVENT
BEGIN:VEVENT
DTSTART;TZID=Pacific/Auckland:20260421T180000
DTEND;TZID=Pacific/Auckland:20260421T200000
DTSTAMP:20260424T175136
CREATED:20260418T001739Z
LAST-MODIFIED:20260421T130326Z
UID:7044-1776794400-1776801600@ministryofnirvana.org.au
SUMMARY:Social Media Overload - Hamilton New Zealand
DESCRIPTION:Inner Peace – Unfolding the science of happiness – Tasmania 								\n				\n					\n		\n					\n		\n				\n						\n					\n			\n						\n				\n									Date and time09 December 2025 1:00 PM LocationSouth Arm Community Centre About the session True peace doesn’t come from changing the world — it blossoms when the mind sees clearly\, free from illusion and restlessness. Join Ven. Handapangoda Nivathapa Thero\, the revered Guru Thero of Jethavanarama Monastery in Sri Lanka\, for an illuminating Dhamma talk that explores the inner mechanics of happiness and the art of freeing the mind from unnecessary suffering.  In this session\, you will discover:How the mind creates conflict and illusion through perceptionThe science behind lasting happiness and calmWays to dissolve the inner noise that clouds true contentmentThe timeless wisdom of the Buddha — as a practical guide to peaceThis is not just a talk\, but a journey inward — an exploration of the nature of the mind and the peace that already lies within you. Organized byMinistry of Nirvana- Australia ContactDinusha – 0406 295 715
URL:https://ministryofnirvana.org.au/event/social-media-overload-hamilton-new-zealand/
LOCATION:5 Glen Lynne Avenue\, Queenwood\, Hamilton 3210\, 5 Glen Lynne Avenue\, Queenwood\, 3210\, New Zealand
ATTACH;FMTTYPE=image/png:https://ministryofnirvana.org.au/wp-content/uploads/2026/04/social-media-overload.png
END:VEVENT
BEGIN:VEVENT
DTSTART;TZID=UTC:20260423T143000
DTEND;TZID=UTC:20260423T173000
DTSTAMP:20260424T175136
CREATED:20260403T211906Z
LAST-MODIFIED:20260403T212522Z
UID:7004-1776954600-1776965400@ministryofnirvana.org.au
SUMMARY:The Theory of Everything - Auckland Talk - FREE EVENT
DESCRIPTION:Inner Peace – Unfolding the science of happiness – Tasmania 								\n				\n					\n		\n					\n		\n				\n						\n					\n			\n						\n				\n									Date and time09 December 2025 1:00 PM LocationSouth Arm Community Centre About the session True peace doesn’t come from changing the world — it blossoms when the mind sees clearly\, free from illusion and restlessness. Join Ven. Handapangoda Nivathapa Thero\, the revered Guru Thero of Jethavanarama Monastery in Sri Lanka\, for an illuminating Dhamma talk that explores the inner mechanics of happiness and the art of freeing the mind from unnecessary suffering.  In this session\, you will discover:How the mind creates conflict and illusion through perceptionThe science behind lasting happiness and calmWays to dissolve the inner noise that clouds true contentmentThe timeless wisdom of the Buddha — as a practical guide to peaceThis is not just a talk\, but a journey inward — an exploration of the nature of the mind and the peace that already lies within you. Organized byMinistry of Nirvana- Australia ContactDinusha – 0406 295 715
URL:https://ministryofnirvana.org.au/event/the-theory-of-everything-auckland-talk-free-event/
LOCATION:Sir Owen G Glenn Building\, 12 Grafton Road\, Auckland CBD\, Auckland\, 1010\, New Zealand
ATTACH;FMTTYPE=image/png:https://ministryofnirvana.org.au/wp-content/uploads/2026/04/Untitled-design.png
END:VEVENT
BEGIN:VEVENT
DTSTART;TZID=UTC:20260424T170000
DTEND;TZID=UTC:20260426T170000
DTSTAMP:20260424T175136
CREATED:20260402T111346Z
LAST-MODIFIED:20260402T112104Z
UID:6989-1777050000-1777222800@ministryofnirvana.org.au
SUMMARY:The Buddhist Detox Retreat Auckland - Apr 2026
DESCRIPTION:Inner Peace – Unfolding the science of happiness – Tasmania 								\n				\n					\n		\n					\n		\n				\n						\n					\n			\n						\n				\n									Date and time09 December 2025 1:00 PM LocationSouth Arm Community Centre About the session True peace doesn’t come from changing the world — it blossoms when the mind sees clearly\, free from illusion and restlessness. Join Ven. Handapangoda Nivathapa Thero\, the revered Guru Thero of Jethavanarama Monastery in Sri Lanka\, for an illuminating Dhamma talk that explores the inner mechanics of happiness and the art of freeing the mind from unnecessary suffering.  In this session\, you will discover:How the mind creates conflict and illusion through perceptionThe science behind lasting happiness and calmWays to dissolve the inner noise that clouds true contentmentThe timeless wisdom of the Buddha — as a practical guide to peaceThis is not just a talk\, but a journey inward — an exploration of the nature of the mind and the peace that already lies within you. Organized byMinistry of Nirvana- Australia ContactDinusha – 0406 295 715
URL:https://ministryofnirvana.org.au/event/the-buddhist-detox-retreat-auckland-apr-2026/
LOCATION:Heaven’s Rest B&B\, 80 Mill Road\, Bombay\, Auckland\, 2675\, New Zealand
ATTACH;FMTTYPE=image/png:https://ministryofnirvana.org.au/wp-content/uploads/2026/04/auckland-2026-retreat.png
END:VEVENT
BEGIN:VEVENT
DTSTART;TZID=UTC:20260429T173000
DTEND;TZID=UTC:20260429T203000
DTSTAMP:20260424T175136
CREATED:20260405T141217Z
LAST-MODIFIED:20260405T142125Z
UID:7011-1777483800-1777494600@ministryofnirvana.org.au
SUMMARY:Mindful Awareness Christchurch 29 April 2026 - FREE EVENT
DESCRIPTION:Inner Peace – Unfolding the science of happiness – Tasmania 								\n				\n					\n		\n					\n		\n				\n						\n					\n			\n						\n				\n									Date and time09 December 2025 1:00 PM LocationSouth Arm Community Centre About the session True peace doesn’t come from changing the world — it blossoms when the mind sees clearly\, free from illusion and restlessness. Join Ven. Handapangoda Nivathapa Thero\, the revered Guru Thero of Jethavanarama Monastery in Sri Lanka\, for an illuminating Dhamma talk that explores the inner mechanics of happiness and the art of freeing the mind from unnecessary suffering.  In this session\, you will discover:How the mind creates conflict and illusion through perceptionThe science behind lasting happiness and calmWays to dissolve the inner noise that clouds true contentmentThe timeless wisdom of the Buddha — as a practical guide to peaceThis is not just a talk\, but a journey inward — an exploration of the nature of the mind and the peace that already lies within you. Organized byMinistry of Nirvana- Australia ContactDinusha – 0406 295 715
URL:https://ministryofnirvana.org.au/event/mindful-awareness-christchurch-29-april-2026-free-event/
LOCATION:52 Bealey AvenueChristchurch Central City\, Christchurch 8013\, New Zealand
ATTACH;FMTTYPE=image/png:https://ministryofnirvana.org.au/wp-content/uploads/2026/04/mindful-awareness-30.png
END:VEVENT
END:VCALENDAR