BEGIN:VCALENDAR
VERSION:2.0
PRODID:-//Ministry of Nirvana - ECPv6.10.1.1//NONSGML v1.0//EN
CALSCALE:GREGORIAN
METHOD:PUBLISH
X-ORIGINAL-URL:https://ministryofnirvana.org.au
X-WR-CALDESC:Events for Ministry of Nirvana
REFRESH-INTERVAL;VALUE=DURATION:PT1H
X-Robots-Tag:noindex
X-PUBLISHED-TTL:PT1H
BEGIN:VTIMEZONE
TZID:UTC
BEGIN:STANDARD
TZOFFSETFROM:+0000
TZOFFSETTO:+0000
TZNAME:UTC
DTSTART:20250101T000000
END:STANDARD
TZID:Australia/Brisbane
BEGIN:STANDARD
TZOFFSETFROM:+1000
TZOFFSETTO:+1000
TZNAME:AEST
DTSTART:20250101T000000
END:STANDARD
END:VTIMEZONE
BEGIN:VEVENT
DTSTART;TZID=UTC:20251115T090000
DTEND;TZID=UTC:20251115T170000
DTSTAMP:20260424T142503
CREATED:20251017T203335Z
LAST-MODIFIED:20251023T120607Z
UID:6556-1763197200-1763226000@ministryofnirvana.org.au
SUMMARY:Detox Your Mind Auckland Day Retreat
DESCRIPTION:Social Media Overload – Hamilton New Zealand   								\n				\n					\n		\n					\n		\n				\n						\n					\n			\n						\n				\n									Date and TimeTuesday\, 21 April 2026\, 6:00 PM – 8:00 PM Location5 Glen Lynne Avenue About this eventFeeling overwhelmed by social media? Constant notifications\, comparison\, and digital noise can quietly drain our peace—especially for young minds.Join us for a meaningful session on “Social Media Overload” and learn how to reset\, refocus\, and reconnect with a calmer\, clearer mind.This special session is designed to gently explore:• How social media affects the mind and emotions• The hidden stress behind scrolling\, likes\, and online validation• Why it’s easy to feel distracted\, restless\, or low after long screen time• Practical ways to regain balance and clarity in daily lifeWith the compassionate guidance of Ven. Rathmalane Bakkula Thero\, participants will be introduced to simple yet powerful techniques rooted in Dhamma to calm the mind\, improve awareness\, and develop a healthier relationship with technology.This is not about rejecting social media—but learning to use it wisely\, without losing inner peace.  Especially for children aged 13 to 18 yearsParents are warmly encouraged to support their children in attending this valuable session. CostThis is a FREE event SpeakersThe retreat will be fully guided by Ven Bhakkula Thero from Jethavanarama monastery. The venerables have been conducting many teaching activities such as residential and day retreats\, seminars\, workshops etc across Australia and around the world (New Zealand\, Singapore\, UK\, Italy\, South Korea\, Dubai\, Israel). Ven. Bakkula Thero: Ven. Bakkula Thero was a former computer engineer and a semi-professional cricketer in the UK\, now a monk\, focusing on finding serenity and inner peace and helping others. ContactKingsley – 02102 828 280Achini – 02238 642 141 Organised byMinistry of Nirvana New Zealand
URL:https://ministryofnirvana.org.au/event/detox-your-mind-auckland-day-retreat/
ATTACH;FMTTYPE=image/png:https://ministryofnirvana.org.au/wp-content/uploads/2025/10/auckland-day-retreat.png
END:VEVENT
BEGIN:VEVENT
DTSTART;TZID=UTC:20251116T080000
DTEND;TZID=UTC:20251116T160000
DTSTAMP:20260424T142503
CREATED:20251014T113037Z
LAST-MODIFIED:20251017T204504Z
UID:6527-1763280000-1763308800@ministryofnirvana.org.au
SUMMARY:Detox Your Mind - Day Retreat - Christchurch
DESCRIPTION:Social Media Overload – Hamilton New Zealand   								\n				\n					\n		\n					\n		\n				\n						\n					\n			\n						\n				\n									Date and TimeTuesday\, 21 April 2026\, 6:00 PM – 8:00 PM Location5 Glen Lynne Avenue About this eventFeeling overwhelmed by social media? Constant notifications\, comparison\, and digital noise can quietly drain our peace—especially for young minds.Join us for a meaningful session on “Social Media Overload” and learn how to reset\, refocus\, and reconnect with a calmer\, clearer mind.This special session is designed to gently explore:• How social media affects the mind and emotions• The hidden stress behind scrolling\, likes\, and online validation• Why it’s easy to feel distracted\, restless\, or low after long screen time• Practical ways to regain balance and clarity in daily lifeWith the compassionate guidance of Ven. Rathmalane Bakkula Thero\, participants will be introduced to simple yet powerful techniques rooted in Dhamma to calm the mind\, improve awareness\, and develop a healthier relationship with technology.This is not about rejecting social media—but learning to use it wisely\, without losing inner peace.  Especially for children aged 13 to 18 yearsParents are warmly encouraged to support their children in attending this valuable session. CostThis is a FREE event SpeakersThe retreat will be fully guided by Ven Bhakkula Thero from Jethavanarama monastery. The venerables have been conducting many teaching activities such as residential and day retreats\, seminars\, workshops etc across Australia and around the world (New Zealand\, Singapore\, UK\, Italy\, South Korea\, Dubai\, Israel). Ven. Bakkula Thero: Ven. Bakkula Thero was a former computer engineer and a semi-professional cricketer in the UK\, now a monk\, focusing on finding serenity and inner peace and helping others. ContactKingsley – 02102 828 280Achini – 02238 642 141 Organised byMinistry of Nirvana New Zealand
URL:https://ministryofnirvana.org.au/event/detox-your-mind-day-retreat-christchurch/
LOCATION:𝗥𝗶𝗰𝗰𝗮𝗿𝘁𝗼𝗻 𝗖𝗲𝗻𝘁𝗿𝗲\, 𝟭𝟵𝟵 𝗖𝗹𝗮𝗿𝗲𝗻𝗰𝗲 𝗦𝘁𝗿𝗲𝗲𝘁\, 𝗥𝗶𝗰𝗰𝗮𝗿𝘁𝗼𝗻\, 𝗖𝗵𝗿𝗶𝘀𝘁𝗰𝗵𝘂𝗿𝗰𝗵 𝟴𝟬𝟱𝟯
ATTACH;FMTTYPE=image/png:https://ministryofnirvana.org.au/wp-content/uploads/2025/10/day-retreat.png
END:VEVENT
BEGIN:VEVENT
DTSTART;TZID=Australia/Brisbane:20251116T143000
DTEND;TZID=Australia/Brisbane:20251116T170000
DTSTAMP:20260424T142503
CREATED:20251025T205756Z
LAST-MODIFIED:20251029T151218Z
UID:6580-1763303400-1763312400@ministryofnirvana.org.au
SUMMARY:The Theory of Everything - Brisbane
DESCRIPTION:Social Media Overload – Hamilton New Zealand   								\n				\n					\n		\n					\n		\n				\n						\n					\n			\n						\n				\n									Date and TimeTuesday\, 21 April 2026\, 6:00 PM – 8:00 PM Location5 Glen Lynne Avenue About this eventFeeling overwhelmed by social media? Constant notifications\, comparison\, and digital noise can quietly drain our peace—especially for young minds.Join us for a meaningful session on “Social Media Overload” and learn how to reset\, refocus\, and reconnect with a calmer\, clearer mind.This special session is designed to gently explore:• How social media affects the mind and emotions• The hidden stress behind scrolling\, likes\, and online validation• Why it’s easy to feel distracted\, restless\, or low after long screen time• Practical ways to regain balance and clarity in daily lifeWith the compassionate guidance of Ven. Rathmalane Bakkula Thero\, participants will be introduced to simple yet powerful techniques rooted in Dhamma to calm the mind\, improve awareness\, and develop a healthier relationship with technology.This is not about rejecting social media—but learning to use it wisely\, without losing inner peace.  Especially for children aged 13 to 18 yearsParents are warmly encouraged to support their children in attending this valuable session. CostThis is a FREE event SpeakersThe retreat will be fully guided by Ven Bhakkula Thero from Jethavanarama monastery. The venerables have been conducting many teaching activities such as residential and day retreats\, seminars\, workshops etc across Australia and around the world (New Zealand\, Singapore\, UK\, Italy\, South Korea\, Dubai\, Israel). Ven. Bakkula Thero: Ven. Bakkula Thero was a former computer engineer and a semi-professional cricketer in the UK\, now a monk\, focusing on finding serenity and inner peace and helping others. ContactKingsley – 02102 828 280Achini – 02238 642 141 Organised byMinistry of Nirvana New Zealand
URL:https://ministryofnirvana.org.au/event/the-theory-of-everything-brisbane/
LOCATION:KENG – Tudor Park Community Recreation Centre 71–78 Clarks Road\, Loganholme 4129
ATTACH;FMTTYPE=image/jpeg:https://ministryofnirvana.org.au/wp-content/uploads/2025/10/theory-qld.jpg
END:VEVENT
END:VCALENDAR